Workbook

Sheet 01收支总表
A1: 附表1
A2: 部门预算收支总体情况表
D3: 单位：万元
A4: 收 入 | C4: 支 出
A5: 项目 | B5: 预算数 | C5: 项目 | D5: 预算数
A6: 一、一般公共预算收入 | B6: =127839.38-B40 -> 127489.38 | C6: （一）一般公共服务支出 | D6: ='07一般公共预算支出'!C7 -> 36892.54
A7: 其中：经费拨款 | C7: （二）外交支出
A8: 非税收入 | C8: （三）国防支出
A9: 二、政府性基金收入 | C9: （四）公共安全支出
A10: 三、国有资本经营预算收入 | C10: （五）教育支出
A11: 四、教育专户收入 | C11: （六）科学技术支出 | D11: ='07一般公共预算支出'!E21 -> 5074.18
A12: 五、事业收入 | C12: （七）文化旅游体育与传媒支出
A13: 六、上级补助收入 | C13: （八）社会保障和就业支出 | D13: ='07一般公共预算支出'!C24 -> 89.35
A14: 七、附属单位上缴收入 | C14: （九）社会保险基金支出
A15: 八、经营收入 | C15: （十）卫生健康支出 | D15: ='07一般公共预算支出'!C29 -> 61.69
A16: 九、其他收入 | C16: （十一）节能环保支出 | D16: ='07一般公共预算支出'!C33 -> 4050
A17: 十、债务转贷 | C17: （十二）城乡社区支出
C18: （十三）农林水支出
C19: （十四）交通运输支出 | D19: ='07一般公共预算支出'!C36 -> 62141
C20: （十五）资源勘探工业信息等支出 | D20: ='07一般公共预算支出'!C39 -> 15350
C21: （十六）商业服务业等支出
C22: （十七）金融支出
C23: （十八）援助其他地区支出
C24: （十九）自然资源海洋气象等支出
C25: （二十）住房保障支出 | D25: ='07一般公共预算支出'!C44 -> 64.32
C26: （二十一）粮油物资储备支出 | D26: ='07一般公共预算支出'!C47 -> 405.3
C27: （二十二）灾害防治及应急管理支出
C28: （二十三）国有资本经营预算支出
C29: （二十四）预备费
C30: （二十五）其他支出
C31: （二十六）转移性支出
C32: （二十七）债务还本支出
C33: （二十八）债务付息支出 | D33: ='07一般公共预算支出'!C53 -> 3711
C34: （二十九）债务发行费用支出
A37: 本年收入合计 | B37: =SUM(B6:B36) -> 127489.38 | C37: 本年支出合计 | D37: =SUM(D6:D34) -> 127839.38
A39: 十、上年结转 | B39: =B40 -> 350 | C39: 结转下年
A40: 一般公共预算收入结转 | B40: 350
A41: 政府性基金预算收入结转
A42: 国有资本经营收入结转
A43: 十一、上年结余
...

Sheet 02部门收入总体情况表
A1: 附表2
A2: 部门收入总体情况表
B3: 单位：万元
A4: 项目 | B4: 预算数
A5: ** | B5: 1
A6: 一、一般公共预算财政拨款收入 | B6: =SUM(B7:B35) -> 127839.38
A7: （一）一般公共服务支出 | B7: ='04财政拨款收支总表'!D6 -> 36892.54
A8: （二）外交支出
A9: （三）国防支出
A10: （四）公共安全支出
A11: （五）教育支出
A12: （六）科学技术支出 | B12: 5074.18
A13: （七）文化旅游体育与传媒支出
A14: （八）社会保障和就业支出 | B14: 89.35
A15: （九）社会保险基金支出
A16: （十）卫生健康支出 | B16: 61.69
A17: （十一）节能环保支出 | B17: 4050
A18: （十二）城乡社区支出
A19: （十三）农林水支出
A20: （十四）交通运输支出 | B20: 62141
A21: （十五）资源勘探工业信息等支出 | B21: 15350
A22: （十六）商业服务业等支出
A23: （十七）金融支出
A24: （十八）援助其他地区支出
A25: （十九）自然资源海洋气象等支出
A26: （二十）住房保障支出 | B26: 64.32
A27: （二十一）粮油物资储备支出 | B27: 405.3
A28: （二十二）灾害防治及应急管理支出
A29: （二十三）国有资本经营预算支出
A30: （二十四）预备费
A31: （二十五）其他支出
A32: （二十六）转移性支出
A33: （二十七）债务还本支出
A34: （二十八）债务付息支出 | B34: 3711
A35: （二十九）债务发行费用支出
A36: 二、政府性基金预算财政拨款收入
A37: ……
A38: 三、国有资本经营预算收入
A39: ……
A40: 四、教育专户核算
...

Sheet 03部门支出总体情况表
A1: 附表3
A2: 部门支出总体情况表
E3: 单位：万元
A4: 功能分类科目 | B4: 支出合计 | C4: 基本支出 | D4: 项目支出 | E4: 上年结转
A5: ** | B5: 1 | C5: 2 | D5: 3 | E5: 4
A6: 总计 | B6: =C6+D6+E6 -> 127839.38 | C6: =SUM(C7:C30) -> 1966.77 | D6: =SUM(D7:D30) -> 125522.61 | E6: =SUM(E7:E30) -> 350
A7: 2010301 | B7: =C7+D7 -> 80.44 | D7: 80.44
A8: 2010401 | B8: =C8+D8 -> 1751.41 | C8: 1751.41
A9: 2010402 | B9: =C9+D9 -> 72 | D9: 72
A10: 2010404 | B10: =C10+D10 -> 168 | D10: 168
A11: 2010406 | B11: =C11+D11 -> 30 | D11: 30
A12: 2010408 | B12: =C12+D12 -> 149 | D12: 149
A13: 2010409 | B13: =C13+D13 -> 17 | D13: 17
A14: 2010499 | B14: =C14+D14 -> 34228 | D14: 34228
A15: 2010501 | B15: =C15+D15 -> 16 | D15: 16
A16: 2010507 | B16: =C16+D16 -> 380.69 | D16: =380.21+0.48 -> 380.69
A17: 2060404 | B17: =C17+D17 -> 5074.18 | D17: 5074.18
A18: 2080505 | B18: =C18+D18 -> 85.77 | C18: 85.77
A19: 2089999 | B19: =C19+D19 -> 3.58 | C19: 3.58
A20: 2101101 | B20: =C20+D20 -> 44.76 | C20: 44.76
A21: 2101103 | B21: =C21+D21 -> 16.93 | C21: 16.93
A22: 2111407 | B22: =C22+D22 -> 4050 | D22: 4050
A23: 2149999 | B23: =C23+D23 -> 62141 | D23: 62141
A24: 2150899 | B24: =C24+D24 -> 15000 | D24: 15000
A25: 2150599 | B25: =C25+D25 -> 0 | E25: 350
A26: 2210201 | B26: =C26+D26 -> 64.32 | C26: 64.32
A27: 2220104 | B27: =C27+D27 -> 7 | D27: 7
A28: 2220115 | B28: =C28+D28 -> 300 | D28: 300
A29: 2220511 | B29: =C29+D29 -> 98.3 | D29: 98.3
A30: 2320303 | B30: =C30+D30 -> 3711 | D30: 3711
A31: 备注：无内容应公开空表并说明情况。

Sheet 04财政拨款收支总表
A1: 附表4
A2: 财政拨款收支总体情况表
D3: 单位：万元
A4: 收 入 | C4: 支 出
A5: 项目 | B5: 预算数 | C5: 项目 | D5: 预算数
A6: 一、一般公共预算收入 | B6: ='05收入总表'!B7-B39 -> 127489.38 | C6: （一）一般公共服务支出 | D6: ='07一般公共预算支出'!C7 -> 36892.54
A7: 二、政府性基金收入 | C7: （二）外交支出
A8: 三、国有资本经营预算收入 | C8: （三）国防支出
A9: 四、事业收入 | C9: （四）公共安全支出
A10: 五、上级补助收入 | C10: （五）教育支出
C11: （六）科学技术支出 | D11: ='07一般公共预算支出'!E21 -> 5074.18
C12: （七）文化旅游体育与传媒支出
C13: （八）社会保障和就业支出 | D13: ='07一般公共预算支出'!C24 -> 89.35
C14: （九）社会保险基金支出
C15: （十）卫生健康支出 | D15: ='07一般公共预算支出'!C29 -> 61.69
C16: （十一）节能环保支出 | D16: ='07一般公共预算支出'!C33 -> 4050
C17: （十二）城乡社区支出
C18: （十三）农林水支出
C19: （十四）交通运输支出 | D19: ='07一般公共预算支出'!C36 -> 62141
C20: （十五）资源勘探工业信息等支出 | D20: ='07一般公共预算支出'!C39 -> 15350
C21: （十六）商业服务业等支出
C22: （十七）金融支出
C23: （十八）援助其他地区支出
C24: （十九）自然资源海洋气象等支出
C25: （二十）住房保障支出 | D25: ='07一般公共预算支出'!C44 -> 64.32
C26: （二十一）粮油物资储备支出 | D26: ='07一般公共预算支出'!C47 -> 405.3
C27: （二十二）灾害防治及应急管理支出
C28: （二十三）国有资本经营预算支出
C29: （二十四）预备费
C30: （二十五）其他支出
C31: （二十六）转移性支出
C32: （二十七）债务还本支出
C33: （二十八）债务付息支出 | D33: ='07一般公共预算支出'!C53 -> 3711
C34: （二十九）债务发行费用支出
A36: 本年收入合计 | B36: =SUM(B6:B35) -> 127489.38 | C36: 本年支出合计 | D36: =SUM(D6:D34) -> 127839.38
A38: 十、上年结转 | B38: =B39 -> 350 | C38: 结转下年
A39: 一般公共预算收入结转 | B39: 350
A40: 政府性基金预算收入结转
A41: 国有资本经营收入结转
A42: 十一、上年结余
...

Sheet 05收入总表
A1: 附表5
A2: 部门预算收入总表
N3: 单位：万元
A4: 单位名称 | B4: 合计 | C4: 一般公共预算收入 | F4: 政府性基金预算收入 | G4: 国有资本经营预算收入 | H4: 财政专户收入 | I4: 事业收入 | J4: 上级补助收入 | K4: 附属单位上缴收入 | L4: 经营收入 | M4: 其他收入 | N4: 债务转贷
C5: 合计 | D5: 经费拨款 | E5: 非税收入
A6: 部门合计
A7: 兰州新区经济发展局（统计局） | B7: =C7 -> 127839.38 | C7: =D7 -> 127839.38 | D7: ='06支出总表'!C7 -> 127839.38
A19: 备注：无内容应公开空表并说明情况。

Sheet 06支出总表
A1: 附表6
A2: 部门预算支出总表
K3: 单位：万元
A4: 单位名称 | B4: 合计 | C4: 一般公共预算支出 | F4: 政府性基金预算支出 | I4: 国有资本经营预算支出
C5: 合计 | D5: 基本支出 | E5: 项目支出 | F5: 合计 | G5: 基本支出 | H5: 项目支出 | I5: 合计 | J5: 基本支出 | K5: 项目支出
A6: 部门合计
A7: 兰州新区经济发展局（统计局） | B7: =C7 -> 127839.38 | C7: =SUM(D7:E7) -> 127839.38 | D7: 1966.77 | E7: 125872.61
A8: 单位2
A9: 单位3
A10: 单位4
A11: 单位5
A12: ......
A19: 备注：无内容应公开空表并说明情况。

Sheet 07一般公共预算支出
A1: 附表7
A2: 一般公共预算支出情况表
E3: 单位：万元
A4: 功能分类科目 | C4: 一般公共预算支出
A5: 科目编码 | B5: 科目名称 | C5: 合计 | D5: 基本支出 | E5: 项目支出
B6: 合计 | C6: =SUM(D6:E6) -> 127839.38 | D6: =D7+D24+D29+D44 -> 1966.77 | E6: =E7+E21+E24+E29+E33+E36+E39+E44+E47+E53 -> 125872.61
A7: 201 | B7: 一般公共服务支出 | C7: =C8+C10+C18 -> 36892.54 | D7: =D8+D10+D18 -> 1751.41 | E7: =E8+E10+E18 -> 35141.13
A8: 20103 | B8: 政务办公厅（室）及相关机构事务 | C8: =D8+E8 -> 80.44 | E8: =SUM(E9:E9) -> 80.44
A9: 2010301 | B9: 行政运行 | C9: =D9+E9 -> 80.44 | E9: 80.44
A10: 20104 | B10: 发展与改革事务 | C10: =SUM(D10:E10) -> 36415.41 | D10: =D11+D13+D15+D17 -> 1751.41 | E10: =SUM(E12:E17) -> 34664
A11: 2010401 | B11: 行政运行 | C11: =D11+E11 -> 1751.41 | D11: =1966.77-D24-D29-D44 -> 1751.41
A12: 2010402 | B12: 一般行政管理事务 | C12: =D12+E12 -> 72 | E12: 72
A13: 2010404 | B13: 战略规划与实施 | C13: =D13+E13 -> 168 | E13: 168
A14: 2010406 | B14: 社会事业发展规划 | C14: =D14+E14 -> 30 | E14: 30
A15: 2010408 | B15: 物价管理 | C15: =D15+E15 -> 149 | E15: 149
A16: 2010450 | B16: 事业运行 | C16: =D16+E16 -> 17 | E16: 17
A17: 2010499 | B17: 其他发展与改革事务支出 | C17: =D17+E17 -> 34228 | E17: 34228
A18: 20105 | B18: 统计信息事务 | C18: =SUM(C19:C20) -> 396.69 | D18: =SUM(D19:D20) -> 0 | E18: =E19+E20 -> 396.69
A19: 2010501 | B19: 行政运行 | C19: 16.48 | E19: 16.48
A20: 210507 | B20: 专业普查活动 | C20: =D20+E20 -> 380.21 | E20: 380.21
A21: 206 | B21: 科学技术支出 | C21: =C22 -> 5074.18 | E21: =E22 -> 5074.18
A22: 20604 | B22: 技术研究与开发 | C22: =SUM(D22:E22) -> 5074.18 | E22: =SUM(E23) -> 5074.18
A23: 2060404 | B23: 科技成果转化与扩散 | C23: =SUM(D23:E23) -> 5074.18 | E23: 5074.18
A24: 208 | B24: 社会保障和就业支出 | C24: =C25+C27 -> 89.35 | D24: =D25+D27 -> 89.35
A25: 20805 | B25: 行政事业单位养老支出 | C25: =SUM(C26:C26) -> 85.77 | D25: =SUM(D26:D26) -> 85.77
A26: 2080505 | B26: 机关事业单位基本养老保险缴费支出 | C26: =D26+E26 -> 85.77 | D26: 85.77
A27: 20899 | B27: 其他社会保障和就业支出 | C27: =SUM(C28) -> 3.58 | D27: =SUM(D28) -> 3.58
A28: 2089999 | B28: 其他社会保障和就业支出 | C28: =D28 -> 3.58 | D28: 3.58
A29: 210 | B29: 卫生健康支出 | C29: =D29+E29 -> 61.69 | D29: =D31+D32 -> 61.69
A30: 20111 | B30: 行政单位医疗 | C30: =C31+C32 -> 61.69 | D30: =D31+D32 -> 61.69
A31: 2101101 | B31: 行政单位医疗 | C31: =D31 -> 44.76 | D31: 44.76
A32: 2101103 | B32: 公务员医疗补助 | C32: =D32 -> 16.93 | D32: 16.93
A33: 211 | B33: 节能环保支出 | C33: =C34 -> 4050 | E33: =E34 -> 4050
A34: 21114 | B34: 能源管理事务 | C34: =SUM(D34:E34) -> 4050 | E34: =SUM(E35) -> 4050
A35: 20111407 | B35: 能源行业管理 | C35: =SUM(D35:E35) -> 4050 | E35: 4050
A36: 214 | B36: 交通运输支出 | C36: =D36+E36 -> 62141 | D36: =D38 -> 0 | E36: =SUM(E38) -> 62141
A37: 21499 | B37: 其他交通运输支出 | C37: =C38 -> 62141 | E37: =E38 -> 62141
A38: 2149999 | B38: 其他交通运输支出 | C38: 62141 | E38: 62141
A39: 215 | B39: 资源勘探工业信息等支出 | C39: =D39+E39 -> 15350 | D39: =D43 -> 0 | E39: =E40+E42 -> 15350
A40: 21505 | B40: 工业和信息化产业监管 | C40: =D40+E40 -> 350 | E40: =E41 -> 350
...

Sheet 08基本支出
A1: 附表8
A2: 一般公共预算基本支出情况表
C3: 单位：万元
A4: 经济分类科目 | C4: 一般公共预算基本支出
A5: 科目编码 | B5: 科目名称
B6: 合计 | C6: =C7+C16+C28 -> 1966.7675
A7: 301 | B7: 工资福利支出 | C7: =SUM(C8:C15) -> 868.14874
A8: 30101 | B8: 基本工资 | C8: =652.7886-125.93-72.08 -> 454.7786 | E8: 含事业绩效
A9: 30102 | B9: 津贴补贴 | C9: 125.9322
A10: 30103 | B10: 奖金 | C10: 72.078
A11: 30108 | B11: 机关事业单位基本养老保险缴费 | C11: 85.7664
A12: 30110 | B12: 职工基本医疗保险缴费 | C12: 44.75939
A13: 30111 | B13: 公务员医疗补助缴费 | C13: 16.929351
A14: 30112 | B14: 其他社会保障缴费 | C14: 3.58
A15: 30113 | B15: 住房公积金 | C15: 64.3248
A16: 302 | B16: 商品和服务支出 | C16: =SUM(C17:C27) -> 130.74
A17: 30201 | B17: 办公费 | C17: 19.2
A18: 30202 | B18: 印刷费 | C18: 16.68
A19: 30207 | B19: 邮电费 | C19: 3
A20: 30211 | B20: 差旅费 | C20: 30
A21: 30216 | B21: 培训费 | C21: 5.8
A22: 30217 | B22: 公务接待费 | C22: 1.66
A23: 30213 | B23: 维修（护）费 | C23: 4.5
A24: 30214 | B24: 租赁费 | C24: 1.5
A25: 30229 | B25: 福利费 | C25: 13.4
A26: 30231 | B26: 公务用车运行维护费 | C26: 3.5
A27: 30239 | B27: 其他交通费用 | C27: 31.5
A28: 303 | B28: 对个人和家庭的补助 | C28: =C29 -> 967.87875
A29: 30399 | B29: 其他对个人和家庭的补助支出 | C29: =956.79875+11.08 -> 967.87875

Sheet 09三公
A1: 附表9
A2: 一般公共预算“三公”经费、会议费及培训费支出表
G3: 单位：万元
A4: 单位名称 | B4: 支出合计 | C4: “三公”经费 | H4: 会议费 | I4: 培训费
C5: 合计 | D5: 因公出国（境）费用 | E5: 公务接待费 | F5: 公务用车购置和运行费
F6: 公务用车购置费 | G6: 公务用车运行费
A7: 部门合计
A8: 兰州新区经济发展局（统计局） | B8: =C8 -> 10.96 | C8: =D8+E8+F8+G8+H8+I8 -> 10.96 | D8: 0 | E8: 1.66 | F8: 0 | G8: 3.5 | H8: 0 | I8: 5.8
A13: ......
A14: 备注：无内容应公开空表并说明情况。

Sheet 10财政拨款机关运行经费表
A1: 附表10
A2: 一般公共预算财政拨款机关运行经费表
E3: 单位：万元
A4: 序号 | B4: 项目 | C4: 合计 | D4: 基本支出 | E4: 项目支出
A5: ** | B5: ** | C5: 1 | D5: 2 | E5: 3
B6: 总计 | C6: =SUM(D6:E6) -> 108.26 | D6: =SUM(D7:D21) -> 91.78 | E6: =SUM(E7:E21) -> 16.48
A7: 1 | B7: [30201]办公费 | C7: =SUM(D7:E7) -> 19.2 | D7: 19.2
A8: 2 | B8: [30202]印刷费 | C8: =SUM(D8:E8) -> 26.98 | D8: 16.68 | E8: =2+4+0.5+3.8 -> 10.3
A9: 3 | B9: [30205]水费 | C9: =SUM(D9:E9) -> 0 | D9: 0
A10: 4 | B10: [30206]电费 | C10: =SUM(D10:E10) -> 0 | D10: 0
A11: 5 | B11: [30207]邮电费 | C11: =SUM(D11:E11) -> 7.5 | D11: 3 | E11: =2.4+1.8+0.3 -> 4.5
A12: 6 | B12: [30208]取暖费 | C12: =SUM(D12:E12) -> 0 | D12: 0
A13: 7 | B13: [30209]物业管理费 | C13: =SUM(D13:E13) -> 0 | D13: 0
A14: 8 | B14: [30211]差旅费 | C14: =SUM(D14:E14) -> 30 | D14: 30
A15: 9 | B15: [30213]维修（护）费 | C15: =SUM(D15:E15) -> 6.18 | D15: 4.5 | E15: 1.68
A16: 10 | B16: [30215]会议费 | C16: =SUM(D16:E16) -> 0 | D16: 0
A17: 11 | B17: [30218]专用材料费 | C17: =SUM(D17:E17) -> 0 | D17: 0
A18: 12 | B18: [30229]福利费 | C18: =SUM(D18:E18) -> 13.4 | D18: 13.4
A19: 13 | B19: [30231]公务用车运行维护费 | C19: =SUM(D19:E19) -> 3.5 | D19: 3.5
A20: 14 | B20: [30299]其他商品和服务支出 | C20: =SUM(D20:E20) -> 0
A21: 15 | B21: [31002]办公设备购置 | C21: =SUM(D21:E21) -> 1.5 | D21: 1.5
A22: 备注：无内容应公开空表并说明情况。

Sheet 11政府性基金预算支出表
A1: 附表11
A2: 政府性基金预算支出表
E3: 单位：万元
A4: 功能分类科目 | C4: 政府性基金预算支出
A5: 科目编码 | B5: 科目名称 | C5: 合计 | D5: 基本支出 | E5: 项目支出
B6: 合计
A19: 备注：无内容应公开空表并说明情况。

Sheet 12国有资本经营预算支出表
A1: 附表12
A2: 国有资本经营预算资金预算支出情况表
B3: 单位：万元
A4: 功能科目 | C4: 国有资本经营预算资金预算支出
A5: 科目编码 | B5: 科目名称 | C5: 合计 | D5: 基本支出 | E5: 项目支出
A6: 合计
A11: 备注：无内容应公开空表并说明情况。

Sheet 13部门管理转移支付表
A1: 附表13
A2: 部门管理转移支付表
E3: 单位：万元
A4: 单位名称 | B4: 合计 | C4: 一般公共预算项目支出 | D4: 政府性基金预算项目支出 | E4: 国有资本经营预算项目支出
A5: 兰州新区经济发展局（统计局） | B5: =SUM(C5) -> 350 | C5: 350
A6: 备注：无内容应公开空表并说明情况。

Sheet 14部门整体支出绩效目标表
A1: 附表14
A2: 部门整体支出绩效目标表
A3: （2024年度）
A4: 部门（单位）名称 | C4: 兰州新区经济发展局（统计局）
A5: 年度主要任务 | B5: 任务名称 | D5: 主要内容 | F5: 预算金额127970.12万元
F6: 总额 | G6: 财政拨款 | H6: 其他资金
B7: 任务1 | D7: 负责发展规划编制相关工作 | F7: =G7 -> 198 | G7: =88+54+30+20+6 -> 198
B8: 任务2 | D8: 负责稳经济政策落实相关工作 | F8: =G8 -> 97361 | G8: =30000+15000+490+139+3000+48732 -> 97361
B9: 任务3 | D9: 负责重点项目建设管理相关工作 | F9: =G9 -> 27195.43 | G9: =13393+4000+2800+43.24+3711+300+200+143+40+34.2+25+16.48+10+350+43.24+2086.27 -> 27195.43
B10: 任务4 | D10: 负责经济数据统计与运行分析相关工作 | F10: =G10 -> 396.21 | G10: =30+16+8.21+342 -> 396.21
B11: 任务5 | D11: 负责粮食安全与保供稳价相关工作 | F11: =G11 -> 415.3 | G11: =300+7+98.3+10 -> 415.3
B12: 任务6 | D12: 负责能源管理相关工作 | F12: =G12 -> 2384.18 | G12: =60+50+2274.18 -> 2384.18
B13: 任务7 | D13: 负责信用体系建设、营商环境改革发展相关工作 | F13: =G13 -> 3 | G13: 3
B14: 任务8 | D14: 负责移民搬迁安置相关工作 | F14: =G14 -> 17 | G14: 17
B15: 金额合计 | F15: =SUM(F7:F14) -> 127970.12 | G15: =SUM(G7:G14) -> 127970.12 | H15: =SUM(H7:H14) -> 0
A16: 年度总体目标 | B16: 目标1：负责发展规划编制相关工作
B17: 目标2：负责稳经济政策落实相关工作
B18: 目标3：负责重点项目建设管理相关工作
B19: 目标4：负责经济数据统计与运行分析相关工作
B20: 目标5：负责粮食安全与保供稳价相关工作
B21: 目标6：负责能源管理相关工作
B22: 目标7：负责信用体系建设相关工作
B23: 目标8：负责营商环境改革发展相关工作
B24: 目标9：负责移民搬迁安置相关工作
A25: 年度绩效指标 | B25: 一级指标 | C25: 二级指标 | E25: 三级指标 | G25: 指标值
B26: 产出指标 | C26: 数量指标 | E26: 保障机关运行数 | G26: 1个
E27: 责任领域内预算项目管理数 | G27: 41个
C28: 质量指标 | E28: 保障单位各科室日常运行情况 | G28: 正常运行
E29: 责任领域内预算资金执行率 | G29: ≥90%
E30: “三公”经费控制率 | G30: ≤100%
C31: 时效指标 | E31: 保障机关运行情况 | G31: 保障
E32: 责任领域内工作完成情况 | G32: 及时
C33: 成本指标 | E33: 合理控制一般公共预算支出 | G33: 合理控制
E34: 有效控制三公经费支出 | G34: 有效控制
B35: 效益指标 | C35: 经济效益指标 | E35: 指标1：增强新区综合经济实力 | G35: 增强
E36: 指标2：稳定市场价格 | G36: 稳定
C37: 社会效益指标 | E37: 指标1：推动新区经济社会高质量发展 | G37: 推动
E38: 指标2：改善新区中小企业营商环境 | G38: 改善
C39: 生态效益指标 | E39: 指标1：降低经济发展对新区生态环境的不良影响 | G39: 降低
E40: 指标2：优化新区营山环境 | G40: 优化
...

Sheet 15项目支出绩效目标表
A1: 附表15
A2: 项目支出绩效目标表
A3: （2024年度）
A5: 项目名称
A6: 主管部门及代码 | F6: 实施单位
A7: 项目资金 | C7: 年度资金总额：
A8: （万元） | C8: 其中：当年财政拨款
C9: 上年结转资金
C10: 其他资金
A11: 总 | B11: 目标1：
A12: 体 | B12: 目标2：
A13: 目 | B13: 目标3：
A14: 标
A15: 绩效指标 | B15: 一级指标 | D15: 二级指标 | E15: 三级指标 | G15: 指标值
B16: 成本指标
B19: 产出指标
B22: 效益指标
B25: 满意度指标
